BEGIN:VCALENDAR
VERSION:2.0
PRODID:-//A&amp;B Business - ECPv6.11.2.1//NONSGML v1.0//EN
CALSCALE:GREGORIAN
METHOD:PUBLISH
X-ORIGINAL-URL:https://www.abbusiness.com
X-WR-CALDESC:Events for A&amp;B Business
REFRESH-INTERVAL;VALUE=DURATION:PT1H
X-Robots-Tag:noindex
X-PUBLISHED-TTL:PT1H
BEGIN:VTIMEZONE
TZID:America/Chicago
BEGIN:DAYLIGHT
TZOFFSETFROM:-0600
TZOFFSETTO:-0500
TZNAME:CDT
DTSTART:20220313T080000
END:DAYLIGHT
BEGIN:STANDARD
TZOFFSETFROM:-0500
TZOFFSETTO:-0600
TZNAME:CST
DTSTART:20221106T070000
END:STANDARD
BEGIN:DAYLIGHT
TZOFFSETFROM:-0600
TZOFFSETTO:-0500
TZNAME:CDT
DTSTART:20230312T080000
END:DAYLIGHT
BEGIN:STANDARD
TZOFFSETFROM:-0500
TZOFFSETTO:-0600
TZNAME:CST
DTSTART:20231105T070000
END:STANDARD
BEGIN:DAYLIGHT
TZOFFSETFROM:-0600
TZOFFSETTO:-0500
TZNAME:CDT
DTSTART:20240310T080000
END:DAYLIGHT
BEGIN:STANDARD
TZOFFSETFROM:-0500
TZOFFSETTO:-0600
TZNAME:CST
DTSTART:20241103T070000
END:STANDARD
BEGIN:DAYLIGHT
TZOFFSETFROM:-0600
TZOFFSETTO:-0500
TZNAME:CDT
DTSTART:20250309T080000
END:DAYLIGHT
BEGIN:STANDARD
TZOFFSETFROM:-0500
TZOFFSETTO:-0600
TZNAME:CST
DTSTART:20251102T070000
END:STANDARD
END:VTIMEZONE
BEGIN:VTIMEZONE
TZID:UTC
BEGIN:STANDARD
TZOFFSETFROM:+0000
TZOFFSETTO:+0000
TZNAME:UTC
DTSTART:20250101T000000
END:STANDARD
END:VTIMEZONE
BEGIN:VTIMEZONE
TZID:Atlantic/Azores
BEGIN:DAYLIGHT
TZOFFSETFROM:-0100
TZOFFSETTO:+0000
TZNAME:+00
DTSTART:20230326T010000
END:DAYLIGHT
BEGIN:STANDARD
TZOFFSETFROM:+0000
TZOFFSETTO:-0100
TZNAME:-01
DTSTART:20231029T010000
END:STANDARD
BEGIN:DAYLIGHT
TZOFFSETFROM:-0100
TZOFFSETTO:+0000
TZNAME:+00
DTSTART:20240331T010000
END:DAYLIGHT
BEGIN:STANDARD
TZOFFSETFROM:+0000
TZOFFSETTO:-0100
TZNAME:-01
DTSTART:20241027T010000
END:STANDARD
END:VTIMEZONE
BEGIN:VTIMEZONE
TZID:UTC
BEGIN:STANDARD
TZOFFSETFROM:+0000
TZOFFSETTO:+0000
TZNAME:UTC
DTSTART:20210101T000000
END:STANDARD
END:VTIMEZONE
BEGIN:VEVENT
DTSTART;TZID=America/Chicago:20250619T160000
DTEND;TZID=America/Chicago:20250619T190000
DTSTAMP:20260419T143333
CREATED:20250422T142527Z
LAST-MODIFIED:20250508T221049Z
UID:12522-1750348800-1750359600@www.abbusiness.com
SUMMARY:CUSTOMER APPRECIATION & BRING IT ON BOOK OPEN HOUSE PARTY
DESCRIPTION:Come join us for a fun-filled CUSTOMER APPRECIATION & BRING IT ON BOOK OPEN HOUSE PARTY!\n\n\nWelcome to our Customer Appreciation Open House! \n\nDelicious food provided by Catering By Cleavers\nLive Music to set the perfect ambiance\nExciting Door Prizes for our valued customers\nBring It On Book Launch Party – Be among the first to get a copy and meet the author!\n\nWe can’t wait to show our gratitude to each and every one of you!
URL:https://www.abbusiness.com/event/june19/
LOCATION:A&B Business Solutions\, 1600 N A Ave\, Sioux Falls\, SD\, 57104\, United States
END:VEVENT
BEGIN:VEVENT
DTSTART;TZID=UTC:20250610T163000
DTEND;TZID=UTC:20250610T190000
DTSTAMP:20260419T143333
CREATED:20250505T203412Z
LAST-MODIFIED:20250507T141549Z
UID:12660-1749573000-1749582000@www.abbusiness.com
SUMMARY:CUSTOMER APPRECIATION OPEN HOUSE NORTH DAKOTA PARTY
DESCRIPTION:Come join us for a fun-filled CUSTOMER APPRECIATION OPEN HOUSE PARTY!\n\n\nFood Truck\nDrinks and Games\nExciting Door Prizes for our valued customers\n\nWe can’t wait to show our gratitude to each and every one of you! \nPresented alongside: \n                           
URL:https://www.abbusiness.com/event/june10/
LOCATION:A&B Fargo\, 117 23rd St N\, Fargo\, ND\, 58102
END:VEVENT
BEGIN:VEVENT
DTSTART;TZID=America/Chicago:20241119T163000
DTEND;TZID=America/Chicago:20241119T190000
DTSTAMP:20260419T143333
CREATED:20240925T205316Z
LAST-MODIFIED:20241029T145200Z
UID:11946-1732033800-1732042800@www.abbusiness.com
SUMMARY:Autumn Customer Appreciation Open House
DESCRIPTION:In sincerest gratitude of your Friendship and Business\, you are invited to our Autumn Customer Appreciation Open House. \nRSVP\n \nRSVP \n 
URL:https://www.abbusiness.com/event/nov19/
LOCATION:A&B Business – Sioux Falls\, 1600 N A Ave\, Sioux Falls\, SD\, 57104\, United States
END:VEVENT
BEGIN:VEVENT
DTSTART;TZID=Atlantic/Azores:20241017T163000
DTEND;TZID=Atlantic/Azores:20241017T190000
DTSTAMP:20260419T143333
CREATED:20240920T205957Z
LAST-MODIFIED:20240920T210201Z
UID:11934-1729182600-1729191600@www.abbusiness.com
SUMMARY:Oktoberfest Customer Appreciation Open House
DESCRIPTION:We are excited to host a special Oktoberfest event to show our appreciation for your loyalty and support. This is our way of saying “Danke schön” for being such an important part of our business.
URL:https://www.abbusiness.com/event/oct17/
LOCATION:Rapid City A&B Business Solutions\, 1822 W Kansas City St.\, Rapid City\, SD\, 57702\, United States
END:VEVENT
BEGIN:VEVENT
DTSTART;TZID=America/Chicago:20240606T163000
DTEND;TZID=America/Chicago:20240606T183000
DTSTAMP:20260419T143333
CREATED:20240503T201748Z
LAST-MODIFIED:20240531T214326Z
UID:11800-1717691400-1717698600@www.abbusiness.com
SUMMARY:Fargo Customer Appreciation Open House
DESCRIPTION:Join us for an exciting evening of fun\, food\, drinks and giveaways. We appreciate your continued support\, and this event is our way of saying “thank you.”
URL:https://www.abbusiness.com/event/fargojune6/
LOCATION:A&B Fargo\, 117 23rd St N\, Fargo\, ND\, 58102
END:VEVENT
BEGIN:VEVENT
DTSTART;TZID=America/Chicago:20231116T163000
DTEND;TZID=America/Chicago:20231116T190000
DTSTAMP:20260419T143333
CREATED:20231019T154748Z
LAST-MODIFIED:20231019T160131Z
UID:11601-1700152200-1700161200@www.abbusiness.com
SUMMARY:Autumn Customer Appreciation Open House - Sioux Falls
DESCRIPTION:Your friendship and business mean a lot to us. That’s why we are delighted to invite you to our customer appreciation open house. Come and enjoy some refreshments and special giveaways as we celebrate you\, our valued customer.
URL:https://www.abbusiness.com/event/nov16/
LOCATION:2904 W Russell St\, 2904 West Russell Street\, Sioux Falls\, SD\, 57107\, United States
END:VEVENT
BEGIN:VEVENT
DTSTART;TZID=Atlantic/Azores:20230921T030000
DTEND;TZID=Atlantic/Azores:20230921T180000
DTSTAMP:20260419T143333
CREATED:20230822T200351Z
LAST-MODIFIED:20230822T203145Z
UID:11512-1695265200-1695319200@www.abbusiness.com
SUMMARY:Chili Cook-Off Open House
DESCRIPTION:You are invited to a Chili Cook-Off Open House\, hosted by A&B and Cask & Cork. Come and taste different chili recipes made by our talented “chefs” and vote for your favorite one. You can also create your own chili with a variety of toppings and ingredients. Don’t forget to save some room for our yummy desserts and enter our raffle for a chance to win amazing prizes. It will be a fun and spicy event\, so don’t miss it!
URL:https://www.abbusiness.com/event/sep21/
LOCATION:Rapid City A&B Business Solutions\, 1822 W Kansas City St.\, Rapid City\, SD\, 57702\, United States
END:VEVENT
BEGIN:VEVENT
DTSTART;TZID=America/Chicago:20230727T150000
DTEND;TZID=America/Chicago:20230727T180000
DTSTAMP:20260419T143333
CREATED:20230519T200348Z
LAST-MODIFIED:20230627T161151Z
UID:11444-1690470000-1690480800@www.abbusiness.com
SUMMARY:Cybersecurity Mixer
DESCRIPTION:We’re excited to bring together cybersecurity professionals for an evening of networking\, learning\, and collaboration. \nThe main guest speaker will be Dr. Kulm\, Director of Digital Forensics Services\, DigForCE Lab and there will be break-out sessions with 4 partner vendors (KnowBe4\, OpenText\, ConnectWise\, and Datto). You will learn how you can prevent your business from cyber attacks. \nYou’ll have the chance to meet and mingle with industry specialist\, ask questions\, share your ideas\, and enjoy complimentary drinks and appetizers. \n3-5PM – we will have the speakers \n5-6PM – social hours with complimentary drinks and appetizers
URL:https://www.abbusiness.com/event/july27/
LOCATION:A&B Business – Sioux Falls\, 1600 N A Ave\, Sioux Falls\, SD\, 57104\, United States
END:VEVENT
BEGIN:VEVENT
DTSTART;TZID=America/Chicago:20230608T163000
DTEND;TZID=America/Chicago:20230608T190000
DTSTAMP:20260419T143333
CREATED:20230503T201553Z
LAST-MODIFIED:20230505T145503Z
UID:11411-1686241800-1686250800@www.abbusiness.com
SUMMARY:Summer Customer Appreciation Open House - Sioux Falls
DESCRIPTION:To express our sincere appreciation of your friendship and business\, we would love to invite you to join our Summer Customer Appreciation Open House on June 8th\, from 4:30-7PM.  There will be refreshments\, giveaways\, and a chance to win a prize!\n\n 
URL:https://www.abbusiness.com/event/june8/
LOCATION:The 2904 Event Hall\, 2904 West Russell Street\, Sioux Falls\, SD\, 57107\, United States
END:VEVENT
BEGIN:VEVENT
DTSTART;TZID=America/Chicago:20230209T170000
DTEND;TZID=America/Chicago:20230209T183000
DTSTAMP:20260419T143333
CREATED:20221205T203325Z
LAST-MODIFIED:20230126T223602Z
UID:11132-1675962000-1675967400@www.abbusiness.com
SUMMARY:CyberSecurity Training - Spirit Lake Chamber Event
DESCRIPTION:5pm – 515pm – Socializing \n515pm – 610pm – Main Speaker (James Hoflen) including questions at end. \n610pm – 620pm – A&B Speaker (Derek) \n620pm – 630pm – Socialzing/Wrap up \n 
URL:https://www.abbusiness.com/event/jan19/
LOCATION:ISU Extension Office\, 1600 15th St.\, Spirit Lake\, IA\, 51360\, United States
END:VEVENT
BEGIN:VEVENT
DTSTART;TZID=America/Chicago:20221117T043000
DTEND;TZID=America/Chicago:20221117T190000
DTSTAMP:20260419T143333
CREATED:20221006T210302Z
LAST-MODIFIED:20221007T165726Z
UID:11083-1668659400-1668711600@www.abbusiness.com
SUMMARY:Thanksgiving Customer Appreciation
DESCRIPTION:Please RSVP:
URL:https://www.abbusiness.com/event/nov17/
LOCATION:2904 W Russell St\, Sioux Falls\, SD 57107\, 2904 W Russell St\, Sioux Falls\, SD\, 57107\, United States
END:VEVENT
BEGIN:VEVENT
DTSTART;TZID=America/Chicago:20221020T160000
DTEND;TZID=America/Chicago:20221020T180000
DTSTAMP:20260419T143333
CREATED:20220908T213645Z
LAST-MODIFIED:20221006T212819Z
UID:11063-1666281600-1666288800@www.abbusiness.com
SUMMARY:Customer Appreciation Open House – Marshall
DESCRIPTION:  \nRSVP:
URL:https://www.abbusiness.com/event/oct20/
LOCATION:A&B MARSHALL MN\, 200 O'Connell St\, Marshall\, MN\, 56258
END:VEVENT
BEGIN:VEVENT
DTSTART;TZID=UTC:20221006T150000
DTEND;TZID=UTC:20221006T180000
DTSTAMP:20260419T143333
CREATED:20220906T191938Z
LAST-MODIFIED:20220908T213804Z
UID:11058-1665068400-1665079200@www.abbusiness.com
SUMMARY:TailGate Open House - Rapid City
DESCRIPTION:RSVP: 
URL:https://www.abbusiness.com/event/oct6/
LOCATION:Rapid City A&B Business Solutions\, 1822 W Kansas City St.\, Rapid City\, SD\, 57702\, United States
END:VEVENT
BEGIN:VEVENT
DTSTART;TZID=UTC:20220825T163000
DTEND;TZID=UTC:20220825T190000
DTSTAMP:20260419T143333
CREATED:20220721T195501Z
LAST-MODIFIED:20220729T143030Z
UID:11021-1661445000-1661454000@www.abbusiness.com
SUMMARY:Aberdeen Open House & Customer Appreciation
DESCRIPTION:In sincerest appreciation of your friendship and business\, you are invited to the A&B Open House & Customer Appreciation! \n \nPlease RSVP:
URL:https://www.abbusiness.com/event/august25/
LOCATION:Aberdeen A&B Business\, 112 S Main St\, Aberdeen\, SD\, 57401\, United States
END:VEVENT
BEGIN:VEVENT
DTSTART;TZID=UTC:20220616T113000
DTEND;TZID=UTC:20220616T133000
DTSTAMP:20260419T143333
CREATED:20220503T170353Z
LAST-MODIFIED:20220503T175503Z
UID:10929-1655379000-1655386200@www.abbusiness.com
SUMMARY:CyberSecurity Lunch & Learn – Sioux Falls
DESCRIPTION:June 16\, 2022 | 11:30 to 1:30 PM \n2904 W Russell St | Sioux Falls\, SD \nEnjoy lunch on us and learn how you can prevent your business from cyber attacks. \nFeaturing guest speakers: \nKatie Shuck – Cyber Intelligence Analyst\, South Dakota Fusion Center \nPlease RSVP:\n\n\n                \n                        \n                            CyberSecurity - Sioux Falls\n                             \n                        \n                        First Name*Last Name*Title*Company Name*Email*\n                            \n                        Phone*\n          \n            \n            \n            \n            \n            \n            \n            \n            \n            \n            \n            \n            \n            \n        \n                        Δ
URL:https://www.abbusiness.com/event/securitysf/
LOCATION:2904 W Russell St\, Sioux Falls\, SD 57107\, 2904 W Russell St\, Sioux Falls\, SD\, 57107\, United States
END:VEVENT
BEGIN:VEVENT
DTSTART;TZID=UTC:20220512T113000
DTEND;TZID=UTC:20220512T133000
DTSTAMP:20260419T143333
CREATED:20220406T213346Z
LAST-MODIFIED:20220406T213547Z
UID:10497-1652355000-1652362200@www.abbusiness.com
SUMMARY:CyberSecurity Lunch & Learn - Rapid City
DESCRIPTION:  \nMay 12\, 2022 | 11:30 to 1:30 PM \n1822 W Kansas City St\, Rapid City\, SD \nEnjoy lunch on us and learn how you can prevent your business from cyber attacks. \nFeaturing guest speaker:\nJim Edman – Cybersecurity Advisor\nJim Edman is the Cybersecurity Advisor for the Department of Homeland Security’s (DHS) Cyber and Infrastructure Security Agency (CISA) in South Dakota. As Cybersecurity Advisor\, Jim works with critical industry sectors across the state on cyber risk management and improved cybersecurity hygiene. \nPLEASE RSVP:
URL:https://www.abbusiness.com/event/security/
LOCATION:Rapid City A&B Business Solutions\, 1822 W Kansas City St.\, Rapid City\, SD\, 57702\, United States
END:VEVENT
BEGIN:VEVENT
DTSTART;TZID=UTC:20220421T163000
DTEND;TZID=UTC:20220421T190000
DTSTAMP:20260419T143333
CREATED:20220324T152112Z
LAST-MODIFIED:20220325T121544Z
UID:10469-1650558600-1650567600@www.abbusiness.com
SUMMARY:Customer Appreciation Open House - Sioux Falls
DESCRIPTION:Please RSVP:
URL:https://www.abbusiness.com/event/april21/
LOCATION:A&B Business – Sioux Falls\, 1600 N A Ave\, Sioux Falls\, SD\, 57104\, United States
END:VEVENT
BEGIN:VEVENT
DTSTART;TZID=UTC:20220324T160000
DTEND;TZID=UTC:20220324T180000
DTSTAMP:20260419T143333
CREATED:20220302T224621Z
LAST-MODIFIED:20220302T231521Z
UID:10452-1648137600-1648144800@www.abbusiness.com
SUMMARY:RAPID CITY CUSTOMER OPEN HOUSE
DESCRIPTION:In sincerest appreciation of your Friendship and Business\, you are invited to the Wine Customer Open House! \n \nPlease RSVP:
URL:https://www.abbusiness.com/event/rc/
LOCATION:Rapid City A&B Business Solutions\, 1822 W Kansas City St.\, Rapid City\, SD\, 57702\, United States
END:VEVENT
BEGIN:VEVENT
DTSTART;TZID=UTC:20211019T163000
DTEND;TZID=UTC:20211019T190000
DTSTAMP:20260419T143333
CREATED:20210923T155520Z
LAST-MODIFIED:20210923T164526Z
UID:9399-1634661000-1634670000@www.abbusiness.com
SUMMARY:40TH ANNIVERSARY CUSTOMER APPRECIATION NIGHT
DESCRIPTION:Join us for our 40th Anniversary Customer Appreciation Night! We at A&B Business want to say an enormous ‘Thank you’ to each of our customers! Without the honor of serving your business\, we wouldn’t have the privilege of celebrating this milestone. Come enjoy the night with amazing food\, Wine and fun Prizes! We are excited to see you!!! \nOctober 19\, 2021 | 4:30PM – 7:00PM\n108 S Main St | Aberdeen\, SD 57401 \nAgenda:\n4:30 – Open House\n5:30 – Announcements\n6:00 – Prize draws \nPLEASE RSVP \n \nhttps://www.abbusiness.com/aberdeen/
URL:https://www.abbusiness.com/event/40th-anniversary-customer-appreciation-night/
LOCATION:ND
END:VEVENT
END:VCALENDAR